############################################################################## ############################################################################## ### ### Running command: ### ### /Library/Frameworks/R.framework/Resources/bin/R CMD build --keep-empty-dirs --no-resave-data SpliceWiz ### ############################################################################## ############################################################################## * checking for file ‘SpliceWiz/DESCRIPTION’ ... OK * preparing ‘SpliceWiz’: * checking DESCRIPTION meta-information ... OK * cleaning src * running ‘cleanup’ * installing the package (it is needed to build vignettes) ----------------------------------- ERROR: dependencies ‘HDF5Array’, ‘h5mread’, ‘rhdf5’ are not available for package ‘SpliceWiz’ Perhaps try a variation of: install.packages(c('HDF5Array', 'h5mread', 'rhdf5')) * removing ‘/private/var/folders/r0/l4fjk6cj5xj0j3brt4bplpl40000gt/T/RtmpQoemWi/Rinst315d7e807b13/SpliceWiz’ ----------------------------------- ERROR: package installation failed