Package: SpliceWiz Version: 1.13.0 Maintainer: Alex Chit Hei Wong MaintainerEmail: alexchwong.github at gmail.com git_url: https://git.bioconductor.org/packages/SpliceWiz git_branch: devel git_last_commit: 73b017a git_last_commit_date: 2025-10-29 11:17:35 -0500 (Wed, 29 Oct 2025)