Package: SpectriPy Version: 1.1.0 Command: /home/biocbuild/bbs-3.23-bioc/R/bin/R CMD INSTALL SpectriPy StartedAt: 2025-11-11 15:18:44 -0500 (Tue, 11 Nov 2025) EndedAt: 2025-11-11 15:19:17 -0500 (Tue, 11 Nov 2025) EllapsedTime: 32.6 seconds RetCode: 0 Status: OK