Package: SpectriPy Version: 1.1.0 Command: /home/biocbuild/bbs-3.23-bioc/R/bin/R CMD check --install=check:SpectriPy.install-out.txt --library=/home/biocbuild/bbs-3.23-bioc/R/site-library --timings SpectriPy_1.1.0.tar.gz StartedAt: 2025-11-14 04:18:58 -0500 (Fri, 14 Nov 2025) EndedAt: 2025-11-14 04:32:05 -0500 (Fri, 14 Nov 2025) EllapsedTime: 787.0 seconds RetCode: 0 Status: OK CheckDir: SpectriPy.Rcheck Warnings: 0