Package: SpectriPy Version: 1.1.0 Command: /Library/Frameworks/R.framework/Resources/bin/R CMD INSTALL SpectriPy StartedAt: 2025-11-12 15:23:14 -0500 (Wed, 12 Nov 2025) EndedAt: 2025-11-12 15:23:57 -0500 (Wed, 12 Nov 2025) EllapsedTime: 43.8 seconds RetCode: 1 Status: ERROR