Package: SpectriPy Version: 1.1.0 Command: /Library/Frameworks/R.framework/Resources/bin/R CMD build --keep-empty-dirs --no-resave-data SpectriPy StartedAt: 2025-11-12 17:17:20 -0500 (Wed, 12 Nov 2025) EndedAt: 2025-11-12 17:17:30 -0500 (Wed, 12 Nov 2025) EllapsedTime: 10.1 seconds RetCode: 1 Status: ERROR PackageFile: None PackageFileSize: NA