Package: SpectralTAD Version: 1.27.0 Command: /home/biocbuild/bbs-3.23-bioc/R/bin/R CMD INSTALL SpectralTAD StartedAt: 2025-11-14 15:32:38 -0500 (Fri, 14 Nov 2025) EndedAt: 2025-11-14 15:32:48 -0500 (Fri, 14 Nov 2025) EllapsedTime: 10.1 seconds RetCode: 0 Status: OK