Package: SpectralTAD Version: 1.27.0 Command: /home/biocbuild/bbs-3.23-bioc/R/bin/R CMD build --keep-empty-dirs --no-resave-data SpectralTAD StartedAt: 2025-11-14 20:15:38 -0500 (Fri, 14 Nov 2025) EndedAt: 2025-11-14 20:17:12 -0500 (Fri, 14 Nov 2025) EllapsedTime: 94.1 seconds RetCode: 0 Status: OK PackageFile: SpectralTAD_1.27.0.tar.gz PackageFileSize: 1.491 MiB