Package: SpectralTAD Version: 1.27.0 Command: /Library/Frameworks/R.framework/Resources/bin/R CMD INSTALL SpectralTAD StartedAt: 2025-11-14 15:18:26 -0500 (Fri, 14 Nov 2025) EndedAt: 2025-11-14 15:18:30 -0500 (Fri, 14 Nov 2025) EllapsedTime: 4.4 seconds RetCode: 0 Status: OK