Package: SpectralTAD Version: 1.27.0 Command: /Library/Frameworks/R.framework/Resources/bin/R CMD build --keep-empty-dirs --no-resave-data SpectralTAD StartedAt: 2025-11-14 17:46:31 -0500 (Fri, 14 Nov 2025) EndedAt: 2025-11-14 17:47:12 -0500 (Fri, 14 Nov 2025) EllapsedTime: 41.5 seconds RetCode: 0 Status: OK PackageFile: SpectralTAD_1.27.0.tar.gz PackageFileSize: 1.492 MiB