Package: SpectralTAD Version: 1.27.0 Maintainer: Mikhail Dozmorov MaintainerEmail: mikhail.dozmorov at gmail.com git_url: https://git.bioconductor.org/packages/SpectralTAD git_branch: devel git_last_commit: 8bab84c git_last_commit_date: 2025-10-29 10:50:13 -0500 (Wed, 29 Oct 2025)