Package: SpectraQL Version: 1.5.0 Command: /home/biocbuild/bbs-3.23-bioc/R/bin/R CMD INSTALL SpectraQL StartedAt: 2025-11-11 15:18:27 -0500 (Tue, 11 Nov 2025) EndedAt: 2025-11-11 15:18:35 -0500 (Tue, 11 Nov 2025) EllapsedTime: 8.8 seconds RetCode: 0 Status: OK