Package: SpectraQL Version: 1.5.0 Command: /Library/Frameworks/R.framework/Resources/bin/R CMD INSTALL SpectraQL StartedAt: 2025-11-12 15:23:03 -0500 (Wed, 12 Nov 2025) EndedAt: 2025-11-12 15:23:07 -0500 (Wed, 12 Nov 2025) EllapsedTime: 3.3 seconds RetCode: 0 Status: OK