Package: Spectra Version: 1.21.0 Command: /home/biocbuild/bbs-3.23-bioc/R/bin/R CMD build --keep-empty-dirs --no-resave-data Spectra StartedAt: 2025-11-13 20:15:27 -0500 (Thu, 13 Nov 2025) EndedAt: 2025-11-13 20:16:18 -0500 (Thu, 13 Nov 2025) EllapsedTime: 51.1 seconds RetCode: 0 Status: OK PackageFile: Spectra_1.21.0.tar.gz PackageFileSize: 1.808 MiB