Package: Spectra Version: 1.21.0 Command: /Library/Frameworks/R.framework/Resources/bin/R CMD INSTALL Spectra StartedAt: 2025-11-14 15:08:11 -0500 (Fri, 14 Nov 2025) EndedAt: 2025-11-14 15:08:17 -0500 (Fri, 14 Nov 2025) EllapsedTime: 6.5 seconds RetCode: 0 Status: OK