Package: Spectra Version: 1.21.0 Command: /Library/Frameworks/R.framework/Resources/bin/R CMD build --keep-empty-dirs --no-resave-data Spectra StartedAt: 2025-11-14 17:46:29 -0500 (Fri, 14 Nov 2025) EndedAt: 2025-11-14 17:46:59 -0500 (Fri, 14 Nov 2025) EllapsedTime: 30.3 seconds RetCode: 0 Status: OK PackageFile: Spectra_1.21.0.tar.gz PackageFileSize: 1.523 MiB