Package: Spectra Version: 1.21.0 Command: rm -rf Spectra.buildbin-libdir && mkdir Spectra.buildbin-libdir && /Users/biocbuild/BBS/utils/build-universal.sh Spectra_1.21.0.tar.gz /Library/Frameworks/R.framework/Resources/bin/R Spectra.buildbin-libdir StartedAt: 2025-11-14 23:53:21 -0500 (Fri, 14 Nov 2025) EndedAt: 2025-11-14 23:53:28 -0500 (Fri, 14 Nov 2025) EllapsedTime: 7.2 seconds RetCode: 0 Status: OK PackageFile: Spectra_1.21.0.tgz PackageFileSize: 2.131 MiB