Package: SpatialOmicsOverlay Version: 1.11.0 Command: /home/biocbuild/bbs-3.23-bioc/R/bin/R CMD INSTALL SpatialOmicsOverlay StartedAt: 2025-11-13 15:16:17 -0500 (Thu, 13 Nov 2025) EndedAt: 2025-11-13 15:16:48 -0500 (Thu, 13 Nov 2025) EllapsedTime: 30.7 seconds RetCode: 0 Status: OK