Package: SpatialOmicsOverlay Version: 1.11.0 Command: /home/biocbuild/bbs-3.23-bioc/R/bin/R CMD build --keep-empty-dirs --no-resave-data SpatialOmicsOverlay StartedAt: 2025-11-13 20:14:23 -0500 (Thu, 13 Nov 2025) EndedAt: 2025-11-13 20:21:47 -0500 (Thu, 13 Nov 2025) EllapsedTime: 444.4 seconds RetCode: 0 Status: OK PackageFile: SpatialOmicsOverlay_1.11.0.tar.gz PackageFileSize: 4.351 MiB