Package: SpatialOmicsOverlay Version: 1.11.0 Command: /Library/Frameworks/R.framework/Resources/bin/R CMD INSTALL SpatialOmicsOverlay StartedAt: 2025-11-13 15:08:23 -0500 (Thu, 13 Nov 2025) EndedAt: 2025-11-13 15:08:35 -0500 (Thu, 13 Nov 2025) EllapsedTime: 12.3 seconds RetCode: 0 Status: OK