Package: SpatialOmicsOverlay Version: 1.11.0 Command: /Library/Frameworks/R.framework/Resources/bin/R CMD build --keep-empty-dirs --no-resave-data SpatialOmicsOverlay StartedAt: 2025-11-13 17:48:50 -0500 (Thu, 13 Nov 2025) EndedAt: 2025-11-13 17:51:51 -0500 (Thu, 13 Nov 2025) EllapsedTime: 181.1 seconds RetCode: 0 Status: OK PackageFile: SpatialOmicsOverlay_1.11.0.tar.gz PackageFileSize: 4.499 MiB