Package: SpatialOmicsOverlay Version: 1.11.0 Maintainer: Maddy Griswold MaintainerEmail: mgriswold at nanostring.com git_url: https://git.bioconductor.org/packages/SpatialOmicsOverlay git_branch: devel git_last_commit: 5b92d66 git_last_commit_date: 2025-10-29 11:22:27 -0500 (Wed, 29 Oct 2025)