Package: SpatialFeatureExperiment Version: 1.13.0 Command: /home/biocbuild/bbs-3.23-bioc/R/bin/R CMD INSTALL SpatialFeatureExperiment StartedAt: 2025-11-11 15:41:30 -0500 (Tue, 11 Nov 2025) EndedAt: 2025-11-11 15:42:27 -0500 (Tue, 11 Nov 2025) EllapsedTime: 56.4 seconds RetCode: 0 Status: OK