Package: SpatialFeatureExperiment Version: 1.13.0 Command: /Library/Frameworks/R.framework/Resources/bin/R CMD build --keep-empty-dirs --no-resave-data SpatialFeatureExperiment StartedAt: 2025-11-13 17:48:30 -0500 (Thu, 13 Nov 2025) EndedAt: 2025-11-13 17:49:22 -0500 (Thu, 13 Nov 2025) EllapsedTime: 51.6 seconds RetCode: 1 Status: ERROR PackageFile: None PackageFileSize: NA