Package: SpatialExperimentIO Version: 1.3.0 Command: /home/biocbuild/bbs-3.23-bioc/R/bin/R CMD INSTALL SpatialExperimentIO StartedAt: 2025-11-13 15:50:12 -0500 (Thu, 13 Nov 2025) EndedAt: 2025-11-13 15:50:44 -0500 (Thu, 13 Nov 2025) EllapsedTime: 31.5 seconds RetCode: 0 Status: OK