Package: SpatialExperimentIO Version: 1.3.0 Command: /home/biocbuild/bbs-3.23-bioc/R/bin/R CMD check --install=check:SpatialExperimentIO.install-out.txt --library=/home/biocbuild/bbs-3.23-bioc/R/site-library --timings SpatialExperimentIO_1.3.0.tar.gz StartedAt: 2025-11-14 04:14:58 -0500 (Fri, 14 Nov 2025) EndedAt: 2025-11-14 04:18:57 -0500 (Fri, 14 Nov 2025) EllapsedTime: 239.2 seconds RetCode: 0 Status: OK CheckDir: SpatialExperimentIO.Rcheck Warnings: 0