Package: SpatialExperimentIO Version: 1.3.0 Command: /Library/Frameworks/R.framework/Resources/bin/R CMD INSTALL SpatialExperimentIO StartedAt: 2025-11-13 15:27:56 -0500 (Thu, 13 Nov 2025) EndedAt: 2025-11-13 15:28:08 -0500 (Thu, 13 Nov 2025) EllapsedTime: 12.6 seconds RetCode: 0 Status: OK