Package: SpatialExperiment Version: 1.21.0 Command: /home/biocbuild/bbs-3.23-bioc/R/bin/R CMD INSTALL SpatialExperiment StartedAt: 2025-11-13 15:19:36 -0500 (Thu, 13 Nov 2025) EndedAt: 2025-11-13 15:20:00 -0500 (Thu, 13 Nov 2025) EllapsedTime: 24.2 seconds RetCode: 0 Status: OK