Package: SpatialExperiment Version: 1.21.0 Command: /Library/Frameworks/R.framework/Resources/bin/R CMD INSTALL SpatialExperiment StartedAt: 2025-11-12 15:25:21 -0500 (Wed, 12 Nov 2025) EndedAt: 2025-11-12 15:25:32 -0500 (Wed, 12 Nov 2025) EllapsedTime: 10.5 seconds RetCode: 0 Status: OK