Package: SpatialExperiment Version: 1.21.0 Command: /Library/Frameworks/R.framework/Resources/bin/R CMD build --keep-empty-dirs --no-resave-data SpatialExperiment StartedAt: 2025-11-13 17:48:19 -0500 (Thu, 13 Nov 2025) EndedAt: 2025-11-13 17:48:50 -0500 (Thu, 13 Nov 2025) EllapsedTime: 31.4 seconds RetCode: 0 Status: OK PackageFile: SpatialExperiment_1.21.0.tar.gz PackageFileSize: 5.69 MiB