Package: SpatialDecon Version: 1.21.0 Command: /home/biocbuild/bbs-3.23-bioc/R/bin/R CMD check --install=check:SpatialDecon.install-out.txt --library=/home/biocbuild/bbs-3.23-bioc/R/site-library --timings SpatialDecon_1.21.0.tar.gz StartedAt: 2025-11-14 04:14:03 -0500 (Fri, 14 Nov 2025) EndedAt: 2025-11-14 04:25:19 -0500 (Fri, 14 Nov 2025) EllapsedTime: 675.8 seconds RetCode: 0 Status: OK CheckDir: SpatialDecon.Rcheck Warnings: 0