Package: SpatialDecon Version: 1.21.0 Command: /Library/Frameworks/R.framework/Resources/bin/R CMD INSTALL SpatialDecon StartedAt: 2025-11-13 15:34:27 -0500 (Thu, 13 Nov 2025) EndedAt: 2025-11-13 15:34:37 -0500 (Thu, 13 Nov 2025) EllapsedTime: 10.2 seconds RetCode: 0 Status: OK