Package: SpatialDecon Version: 1.21.0 Command: /Library/Frameworks/R.framework/Resources/bin/R CMD check --install=check:SpatialDecon.install-out.txt --library=/Library/Frameworks/R.framework/Resources/library --no-vignettes --timings SpatialDecon_1.21.0.tar.gz StartedAt: 2025-11-14 22:39:37 -0500 (Fri, 14 Nov 2025) EndedAt: 2025-11-14 22:43:39 -0500 (Fri, 14 Nov 2025) EllapsedTime: 241.9 seconds RetCode: 0 Status: OK CheckDir: SpatialDecon.Rcheck Warnings: 0