Package: SpatialDecon Version: 1.21.0 Command: /Library/Frameworks/R.framework/Resources/bin/R CMD build --keep-empty-dirs --no-resave-data SpatialDecon StartedAt: 2025-11-13 17:48:05 -0500 (Thu, 13 Nov 2025) EndedAt: 2025-11-13 17:49:08 -0500 (Thu, 13 Nov 2025) EllapsedTime: 62.7 seconds RetCode: 0 Status: OK PackageFile: SpatialDecon_1.21.0.tar.gz PackageFileSize: 5.282 MiB