Package: SpatialCPie Version: 1.27.0 Command: /home/biocbuild/bbs-3.23-bioc/R/bin/R CMD INSTALL SpatialCPie StartedAt: 2025-11-14 15:18:11 -0500 (Fri, 14 Nov 2025) EndedAt: 2025-11-14 15:18:36 -0500 (Fri, 14 Nov 2025) EllapsedTime: 25.7 seconds RetCode: 0 Status: OK