Package: SpatialCPie Version: 1.27.0 Command: /Library/Frameworks/R.framework/Resources/bin/R CMD INSTALL SpatialCPie StartedAt: 2025-11-14 15:11:43 -0500 (Fri, 14 Nov 2025) EndedAt: 2025-11-14 15:11:54 -0500 (Fri, 14 Nov 2025) EllapsedTime: 10.3 seconds RetCode: 0 Status: OK