Package: SpatialCPie Version: 1.27.0 Command: rm -rf SpatialCPie.buildbin-libdir && mkdir SpatialCPie.buildbin-libdir && /Users/biocbuild/BBS/utils/build-universal.sh SpatialCPie_1.27.0.tar.gz /Library/Frameworks/R.framework/Resources/bin/R SpatialCPie.buildbin-libdir StartedAt: 2025-11-14 23:53:09 -0500 (Fri, 14 Nov 2025) EndedAt: 2025-11-14 23:53:22 -0500 (Fri, 14 Nov 2025) EllapsedTime: 13.3 seconds RetCode: 0 Status: OK PackageFile: SpatialCPie_1.27.0.tgz PackageFileSize: 1.642 MiB