Package: SpatialCPie Version: 1.27.0 Maintainer: Joseph Bergenstraahle MaintainerEmail: joseph.bergenstrahle at gmail.com git_url: https://git.bioconductor.org/packages/SpatialCPie git_branch: devel git_last_commit: 6712818 git_last_commit_date: 2025-10-29 10:49:19 -0500 (Wed, 29 Oct 2025)