Package: SparseSignatures Version: 2.21.0 Command: /home/biocbuild/bbs-3.23-bioc/R/bin/R CMD INSTALL SparseSignatures StartedAt: 2025-11-13 15:28:33 -0500 (Thu, 13 Nov 2025) EndedAt: 2025-11-13 15:29:16 -0500 (Thu, 13 Nov 2025) EllapsedTime: 42.2 seconds RetCode: 0 Status: OK