Package: SparseSignatures Version: 2.21.0 Command: /home/biocbuild/bbs-3.23-bioc/R/bin/R CMD check --install=check:SparseSignatures.install-out.txt --library=/home/biocbuild/bbs-3.23-bioc/R/site-library --timings SparseSignatures_2.21.0.tar.gz StartedAt: 2025-11-14 04:13:00 -0500 (Fri, 14 Nov 2025) EndedAt: 2025-11-14 04:24:37 -0500 (Fri, 14 Nov 2025) EllapsedTime: 696.9 seconds RetCode: 0 Status: OK CheckDir: SparseSignatures.Rcheck Warnings: 0