Package: SparseSignatures Version: 2.21.0 Command: /home/biocbuild/bbs-3.23-bioc/R/bin/R CMD build --keep-empty-dirs --no-resave-data SparseSignatures StartedAt: 2025-11-13 20:12:32 -0500 (Thu, 13 Nov 2025) EndedAt: 2025-11-13 20:16:24 -0500 (Thu, 13 Nov 2025) EllapsedTime: 231.2 seconds RetCode: 0 Status: OK PackageFile: SparseSignatures_2.21.0.tar.gz PackageFileSize: 1.469 MiB