Package: SparseSignatures Version: 2.21.0 Command: /Library/Frameworks/R.framework/Resources/bin/R CMD check --install=check:SparseSignatures.install-out.txt --library=/Library/Frameworks/R.framework/Resources/library --no-vignettes --timings SparseSignatures_2.21.0.tar.gz StartedAt: 2025-11-13 22:44:50 -0500 (Thu, 13 Nov 2025) EndedAt: 2025-11-13 22:50:58 -0500 (Thu, 13 Nov 2025) EllapsedTime: 368.6 seconds RetCode: 0 Status: OK CheckDir: SparseSignatures.Rcheck Warnings: 0