Package: SparseSignatures Version: 2.21.0 Command: /Library/Frameworks/R.framework/Resources/bin/R CMD build --keep-empty-dirs --no-resave-data SparseSignatures StartedAt: 2025-11-12 17:16:02 -0500 (Wed, 12 Nov 2025) EndedAt: 2025-11-12 17:17:52 -0500 (Wed, 12 Nov 2025) EllapsedTime: 110.4 seconds RetCode: 0 Status: OK PackageFile: SparseSignatures_2.21.0.tar.gz PackageFileSize: 1.462 MiB