Package: Spaniel Version: 1.25.0 Command: /home/biocbuild/bbs-3.23-bioc/R/bin/R CMD INSTALL Spaniel StartedAt: 2025-11-14 15:55:33 -0500 (Fri, 14 Nov 2025) EndedAt: 2025-11-14 15:56:15 -0500 (Fri, 14 Nov 2025) EllapsedTime: 42.1 seconds RetCode: 0 Status: OK