Package: Spaniel Version: 1.25.0 Command: /home/biocbuild/bbs-3.23-bioc/R/bin/R CMD build --keep-empty-dirs --no-resave-data Spaniel StartedAt: 2025-11-14 20:11:04 -0500 (Fri, 14 Nov 2025) EndedAt: 2025-11-14 20:13:50 -0500 (Fri, 14 Nov 2025) EllapsedTime: 166.1 seconds RetCode: 0 Status: OK PackageFile: Spaniel_1.25.0.tar.gz PackageFileSize: 3.883 MiB