Package: Spaniel Version: 1.25.0 Command: /Library/Frameworks/R.framework/Resources/bin/R CMD INSTALL Spaniel StartedAt: 2025-11-14 15:29:47 -0500 (Fri, 14 Nov 2025) EndedAt: 2025-11-14 15:30:09 -0500 (Fri, 14 Nov 2025) EllapsedTime: 22.6 seconds RetCode: 0 Status: OK