Package: Spaniel Version: 1.25.0 Command: /Library/Frameworks/R.framework/Resources/bin/R CMD build --keep-empty-dirs --no-resave-data Spaniel StartedAt: 2025-11-13 17:46:54 -0500 (Thu, 13 Nov 2025) EndedAt: 2025-11-13 17:48:05 -0500 (Thu, 13 Nov 2025) EllapsedTime: 70.8 seconds RetCode: 0 Status: OK PackageFile: Spaniel_1.25.0.tar.gz PackageFileSize: 4.465 MiB