Package: Spaniel Version: 1.25.0 Command: rm -rf Spaniel.buildbin-libdir && mkdir Spaniel.buildbin-libdir && /Users/biocbuild/BBS/utils/build-universal.sh Spaniel_1.25.0.tar.gz /Library/Frameworks/R.framework/Resources/bin/R Spaniel.buildbin-libdir StartedAt: 2025-11-13 23:57:45 -0500 (Thu, 13 Nov 2025) EndedAt: 2025-11-13 23:58:05 -0500 (Thu, 13 Nov 2025) EllapsedTime: 20.5 seconds RetCode: 0 Status: OK PackageFile: Spaniel_1.25.0.tgz PackageFileSize: 4.519 MiB