Package: Spaniel Version: 1.25.0 Maintainer: Rachel Queen MaintainerEmail: rachel.queen at newcastle.ac.uk git_url: https://git.bioconductor.org/packages/Spaniel git_branch: devel git_last_commit: b3f45b0 git_last_commit_date: 2025-10-29 10:54:28 -0500 (Wed, 29 Oct 2025)