Package: SpaceTrooper Version: 1.1.0 Command: /Library/Frameworks/R.framework/Resources/bin/R CMD INSTALL SpaceTrooper StartedAt: 2025-11-16 15:29:14 -0500 (Sun, 16 Nov 2025) EndedAt: 2025-11-16 15:29:30 -0500 (Sun, 16 Nov 2025) EllapsedTime: 16.5 seconds RetCode: 0 Status: OK